BEGIN:VCALENDAR
VERSION:2.0
PRODID:-//BDQLD - ECPv6.15.20//NONSGML v1.0//EN
CALSCALE:GREGORIAN
METHOD:PUBLISH
X-ORIGINAL-URL:https://bdqld.com.au
X-WR-CALDESC:Events for BDQLD
REFRESH-INTERVAL;VALUE=DURATION:PT1H
X-Robots-Tag:noindex
X-PUBLISHED-TTL:PT1H
BEGIN:VTIMEZONE
TZID:Australia/Brisbane
BEGIN:STANDARD
TZOFFSETFROM:+1000
TZOFFSETTO:+1000
TZNAME:AEST
DTSTART:20250101T000000
END:STANDARD
END:VTIMEZONE
BEGIN:VEVENT
DTSTART;TZID=Australia/Brisbane:20260423T120000
DTEND;TZID=Australia/Brisbane:20260423T130000
DTSTAMP:20260420T195606
CREATED:20260414T004034Z
LAST-MODIFIED:20260415T041217Z
UID:10000157-1776945600-1776949200@bdqld.com.au
SUMMARY:BDQ Online CPD Masterclass with HR Law
DESCRIPTION:Fundamentals of Workforce Management \nOverviewPractical guidance for managing your workforce effectively \nThis session provides employers with a clear and practical overview of the key policies\, procedures\, and record-keeping practices required to manage employees and contractors safely\, fairly\, and consistently. \nSupporting compliant and consistent workplacesThe presentation will explore essential workplace frameworks\, including work health and safety\, employee relations\, IT and cybersecurity\, and the full employee lifecycle. Attendees will gain practical tools to establish strong foundations for workforce management while reducing risk and ensuring compliance. \nPresenterSewar Mitanis (Practice Group Leader – HR Law)Sewar Mitanis will lead this session\, sharing expert insights and practical strategies to help organisations implement effective workforce management practices across a range of workplace scenarios. \nLearning OutcomesYou’ll leave with practical tools and actionable insights to help you strengthen your workplace systems\, including: \n\nA clear checklist of baseline workplace policies every organisation should have\nPractical steps for onboarding and offboarding to ensure consistency and reduce risk\nEffective methods for documenting performance discussions\, complaints\, and incidents\nStrategies to identify and respond to psychosocial hazards\, bullying\, and harassment early\nImproved controls for IT\, cybersecurity\, and responsible device use\n\nMembers will receive 1 Type A CPD Point.
URL:https://bdqld.com.au/event/bdq-online-cpd-masterclass-with-hr-law/
CATEGORIES:Education & Training
ATTACH;FMTTYPE=image/png:https://bdqld.com.au/wp-content/uploads/2026/04/CPD-Website-Graphic-1.png
ORGANIZER;CN="Romeo Du Jr":MAILTO:admin@bdqld.com.au
END:VEVENT
BEGIN:VEVENT
DTSTART;TZID=Australia/Brisbane:20260507T120000
DTEND;TZID=Australia/Brisbane:20260507T130000
DTSTAMP:20260420T195606
CREATED:20260415T003917Z
LAST-MODIFIED:20260415T041348Z
UID:10000161-1778155200-1778158800@bdqld.com.au
SUMMARY:BDQ Online CPD Masterclass with James Hardie
DESCRIPTION:James Hardie Modern Homes Forecast 2026\nCreative Expression and the Future of Adaptive\, Human-Centred Homes \nOverview\nThe James Hardie Modern Homes Forecast is an annual research-driven report produced by James Hardie to identify and define the key lifestyle trends\, architectural directions and design aesthetics shaping how Australians want to build and renovate their homes. \nThe third report in this ongoing research series continues to track the evolving relationship between lifestyle shifts\, design priorities and the future of Australian residential architecture. \nThe Forecast is designed to provide clear research and practical insights that support confident\, informed decision-making\, translating emerging trends into actionable guidance for real-world projects. \nPresenter\nMark Turemko from James Hardie will deliver an engaging and informative overview of the 2026 forecast\, supported by research insights and real-world applications for residential design. \nLearning Outcomes\nYou’ll gain practical knowledge and insights to support contemporary residential design\, including: \n\nIdentify key global design trends and market drivers influencing contemporary Australian residential architecture.\nAssess the implications of emerging residential design trends for material selection\, facade design and architectural detailing in modern housing projects.\nApply forecast insights to inform evidence-based residential design decisions that respond to future housing needs within the Australian regulatory and market context.\n\nMembers will receive 1 Type F CPD Point.
URL:https://bdqld.com.au/event/bdq-online-cpd-masterclass-with-james-hardie/
CATEGORIES:Education & Training
ATTACH;FMTTYPE=image/png:https://bdqld.com.au/wp-content/uploads/2026/04/1c2b8498-9d21-47d3-aed2-5ad543ea0fab.png
ORGANIZER;CN="Romeo Du Jr":MAILTO:admin@bdqld.com.au
LOCATION:https://us02web.zoom.us/j/86153686056
END:VEVENT
END:VCALENDAR