BEGIN:VCALENDAR
VERSION:2.0
PRODID:-//BDQLD - ECPv6.15.20//NONSGML v1.0//EN
CALSCALE:GREGORIAN
METHOD:PUBLISH
X-WR-CALNAME:BDQLD
X-ORIGINAL-URL:https://bdqld.com.au
X-WR-CALDESC:Events for BDQLD
REFRESH-INTERVAL;VALUE=DURATION:PT1H
X-Robots-Tag:noindex
X-PUBLISHED-TTL:PT1H
BEGIN:VTIMEZONE
TZID:Australia/Brisbane
BEGIN:STANDARD
TZOFFSETFROM:+1000
TZOFFSETTO:+1000
TZNAME:AEST
DTSTART:20250101T000000
END:STANDARD
END:VTIMEZONE
BEGIN:VEVENT
DTSTART;TZID=Australia/Brisbane:20260416T120000
DTEND;TZID=Australia/Brisbane:20260416T130000
DTSTAMP:20260420T212838
CREATED:20260323T050442Z
LAST-MODIFIED:20260415T041130Z
UID:10000153-1776340800-1776344400@bdqld.com.au
SUMMARY:BDQ Online CPD Masterclass with LevelMaster
DESCRIPTION:Adjustable Foundation Solutions\nOverview\nPractical foundation solutions for challenging sitesThis session will provide insights into adjustable foundation solutions and how they can assist with difficult building sites\, including sloping blocks\, flood-prone areas\, and regional locations with reactive soils. \nSupporting better design flexibilityThe presentation will explore how the LevelMaster range can help designers respond to site-specific challenges while maintaining practical and effective foundation outcomes. \nPresenter\nLachlan Taylor (LevelMaster)\nLachlan Taylor from LevelMaster will present this informal masterclass\, sharing practical insights into adjustable foundation solutions and their application across a range of site conditions. \nLearning Outcomes\nYou’ll leave with key insights and practical tools to help you incorporate adjustable foundation products into your building designs. \nMembers will receive 1 Type F CPD Point.
URL:https://bdqld.com.au/event/bdq-online-cpd-masterclass-with-levelmaster/
CATEGORIES:Education & Training
ATTACH;FMTTYPE=image/jpeg:https://bdqld.com.au/wp-content/uploads/2026/03/CPD-Website-Graphic-1.jpg
ORGANIZER;CN="Romeo Du Jr":MAILTO:admin@bdqld.com.au
LOCATION:
END:VEVENT
BEGIN:VEVENT
DTSTART;TZID=Australia/Brisbane:20260409T120000
DTEND;TZID=Australia/Brisbane:20260409T130000
DTSTAMP:20260420T212838
CREATED:20260324T031902Z
LAST-MODIFIED:20260324T032144Z
UID:10000154-1775736000-1775739600@bdqld.com.au
SUMMARY:BDQ Online CPD Masterclass with Bondor
DESCRIPTION:Insulated Sandwich Panel and Project Applications\nOverview:\nUnderstanding insulated panel systems in construction\nThis session will provide an overview of insulated sandwich panels (ISP)\, including how they are manufactured and applied across a range of construction projects. Through production and project videos\, key features and considerations for their use in Australian building environments will be highlighted. \nSupporting Smarter Material Selection:\nThe presentation will explore important factors to consider when specifying ISPs\, helping designers and builders make informed decisions for performance\, compliance and efficiency across various project types. \nPresenter:\nCaroline Bell (Bondor Metecno)\nCaroline Bell\, Architectural Business Development Manager for QLD & NT at Bondor Metecno\, will deliver this session\, sharing practical insights into insulated panel systems and their application in real-world projects. \nLearning Outcomes:\nYou will gain a clear understanding of insulated sandwich panels\, including their production\, key benefits and important considerations for their use in Australian construction projects.
URL:https://bdqld.com.au/event/bdq-online-cpd-masterclass-with-bondor/
CATEGORIES:Education & Training
ATTACH;FMTTYPE=image/jpeg:https://bdqld.com.au/wp-content/uploads/2026/03/CPD-Website-Graphic-2.jpg
ORGANIZER;CN="Romeo Du Jr":MAILTO:admin@bdqld.com.au
END:VEVENT
BEGIN:VEVENT
DTSTART;TZID=Australia/Brisbane:20260326T120000
DTEND;TZID=Australia/Brisbane:20260326T130000
DTSTAMP:20260420T212838
CREATED:20260312T041526Z
LAST-MODIFIED:20260312T041526Z
UID:10000147-1774526400-1774530000@bdqld.com.au
SUMMARY:BDQ Online CPD Masterclass with Allcast Precast
DESCRIPTION:Elevating Home Design with Allcast Precast Plunge Pools\nOverview\nPrecast plunge pools as a design featureHow precast concrete plunge pools can elevate residential and hospitality projects by introducing a compact\, high-impact water feature that enhances contemporary architecture\, outdoor living spaces and luxury residential environments. \nDesign integration for architects and designersKey considerations when incorporating plunge pools into residential layouts\, including spatial planning\, structural coordination\, aesthetic alignment with the home and integration with landscaping and outdoor entertaining zones. \nEfficient installation and construction methodologyAn overview of how precast plunge pools are manufactured\, transported and installed\, and why this process offers advantages over traditional in-situ pool construction in terms of speed\, reduced site complexity and improved coordination between designers and builders. \nPredictable delivery and project outcomesHow the controlled manufacturing environment of precast construction enables consistent quality\, reliable timelines and reduced on-site disruption\, helping architects\, designers and builders deliver premium pool outcomes with confidence. \nReal-world projects across AustraliaExamples of residential and hospitality projects where precast plunge pools have been successfully integrated into award-winning designs\, demonstrating their versatility and design impact. \n\nPresenter\nMike Cunningham (Allcast Precast) \nMike Cunningham is the CEO of Allcast Precast and brings extensive experience in precast concrete manufacturing and construction delivery. Under his leadership\, Allcast has become a leader in the design and production of precast plunge pools used in high-end residential and hospitality projects across Australia. Mike works closely with architects\, designers and builders to develop solutions that combine design flexibility\, structural performance and efficient installation\, helping projects achieve premium outcomes with reliable timelines. \n\nLearning Outcomes\nYou’ll leave with a clear understanding of how precast concrete plunge pools can be integrated into residential and hospitality projects\, insight into real-world case studies across Australia\, and knowledge of the installation methodology and design considerations that allow architects\, designers and builders to deliver high-end pool outcomes with predictable timelines and performance.
URL:https://bdqld.com.au/event/bdq-online-cpd-masterclass-with-allcast-precast/
CATEGORIES:Education & Training
ATTACH;FMTTYPE=image/jpeg:https://bdqld.com.au/wp-content/uploads/2026/03/online-learning-image-1.jpg
ORGANIZER;CN="Romeo Du Jr":MAILTO:admin@bdqld.com.au
END:VEVENT
BEGIN:VEVENT
DTSTART;TZID=Australia/Brisbane:20260319T100000
DTEND;TZID=Australia/Brisbane:20260319T111500
DTSTAMP:20260420T212838
CREATED:20260310T034543Z
LAST-MODIFIED:20260312T012034Z
UID:10000146-1773914400-1773918900@bdqld.com.au
SUMMARY:BDQ Online CPD Masterclass with Webber Insurance
DESCRIPTION:How AI Could Impact Your Insurance Program\nOverview\nAI as a tool\, not a substitute for judgement  \nWhy AI should support your experience and qualifications\, whether you are on the tools\, in the site office or at the design desk\, rather than replacing your professional advice or decisions. \nRetaining control over your final work  \nThe risks of “set and forget” or end‑to‑end automation\, and why human review\, checking and sign‑off of AI‑generated designs\, quantities\, reports or advice remain essential from both a licensing and PI perspective. \nHow PI insurers are likely to respond  \nEmerging trends in AI‑related limitations and exclusions\, what underwriters are starting to look for when you use AI in your delivery\, and how poor governance or lack of oversight could affect your cover. \nWhy today’s AI use could be tested tomorrow  \nHow PI policy wordings can tighten over time\, why AI‑specific exclusions might be introduced at renewal\, and the risk that future wording changes may impact work already completed using AI tools. \nFollowing AI principles in practice  \nHow applying clear AI principles – like human oversight\, transparency\, accountability and data protection\, can help demonstrate that you are using AI responsibly\, and how frameworks (such as those supported by MyEmpire Group) can guide both professional and site‑based teams. \nPresenters\nDaniel Webber (Webber Insurance) \nDaniel is a Director at Webber Insurance with deep expertise in Professional Indemnity and complex\, non-standard risk placements. Since joining the business in 2013\, he has played a central role in shaping Webber Insurance Services into a thriving commercial brokerage. Daniel works closely with clients\, partners and underwriters\, building the strong relationships needed to deliver high-quality outcomes. He is known for his practical problem-solving approach and his ability to navigate challenging scenarios\, providing clients with clear guidance and tailored insurance solutions. \nChris Self (MyEmpire Group) \nChris is a highly experienced information security principal. He has worked as a senior cyber security consultant for the Big 4. Prior to starting with MyEmpire Group\, he was the Information Security Manager at Adelaide Airport\, where he led a full rebuild of the airport’s cyber security processes and infrastructure. Chris holds a master’s in information systems security and a number of information security certifications\, including CISSP and CRISC. \nLearning Outcomes\nYou’ll leave with practical ideas on how to keep using AI to improve productivity\, while protecting your licence\, reputation and Professional Indemnity cover.
URL:https://bdqld.com.au/event/bdq-online-cpd-masterclass-with-webber/
CATEGORIES:Education & Training
ATTACH;FMTTYPE=image/jpeg:https://bdqld.com.au/wp-content/uploads/2026/03/online-learning-image.jpg
ORGANIZER;CN="Romeo Du Jr":MAILTO:admin@bdqld.com.au
END:VEVENT
BEGIN:VEVENT
DTSTART;TZID=Australia/Brisbane:20260305T120000
DTEND;TZID=Australia/Brisbane:20260305T130000
DTSTAMP:20260420T212838
CREATED:20260224T024541Z
LAST-MODIFIED:20260224T024550Z
UID:10000140-1772712000-1772715600@bdqld.com.au
SUMMARY:BDQ Online CPD Masterclass with BERA
DESCRIPTION:7 STARS WITHOUT BUDGET BLOWOUTS: Smart\, Cost-Efficient Pathways to Compliance \nOverviewJoin us for a technical CPD session exploring practical\, cost-effective strategies for achieving 7-Star compliance without unnecessary upgrades or inflated build costs. \nThere is a common perception that moving to 7 Stars automatically requires more insulation\, higher-spec glazing\, and across-the-board upgrades. In reality\, compliance under Deemed to Satisfy (Elemental) and NatHERS pathways can often be achieved through informed\, early-stage design decisions rather than blanket specification increases. \nThis session will unpack what truly drives performance outcomes in both Deemed to Satisfy and NatHERS modelling\, highlight where project budgets are frequently overspent\, and demonstrate how strategic\, targeted adjustments can deliver compliance efficiently. Attendees will gain practical insight into glazing optimisation\, ceiling fan and QOLA strategies\, and the value of early modelling to guide cost-effective decision-making. \nThe presentation will also provide guidance on communicating clear\, evidence-based compliance pathways to clients and project teams\, helping to align performance goals with budget expectations. \nLearning OutcomesBy the end of this session\, participants will: \n– Identify the highest-impact\, lowest-cost design strategies for achieving 7-Star compliance.– Recognise and avoid common specification traps that lead to unnecessary cost increases.– Apply targeted glazing\, fan\, and QOLA strategies strategically rather than uniformly.– Understand how early-stage NatHERS modelling supports informed design decisions and cost control.– Confidently communicate smart\, cost-efficient compliance pathways to clients and project stakeholders.
URL:https://bdqld.com.au/event/bdq-online-cpd-masterclass-with-bera/
CATEGORIES:Education & Training
ATTACH;FMTTYPE=image/png:https://bdqld.com.au/wp-content/uploads/2026/02/online-learning-image-14.png
ORGANIZER;CN="Romeo Du Jr":MAILTO:admin@bdqld.com.au
END:VEVENT
BEGIN:VEVENT
DTSTART;TZID=Australia/Brisbane:20260226T120000
DTEND;TZID=Australia/Brisbane:20260226T130000
DTSTAMP:20260420T212838
CREATED:20260205T035837Z
LAST-MODIFIED:20260226T014413Z
UID:10000135-1772107200-1772110800@bdqld.com.au
SUMMARY:BDQ Online CPD Masterclass with PKCG
DESCRIPTION:CYBER SECURITY & DATA PROTECTION: Safeguarding Digital Assets in Practice \nOverviewJoin us for a technical CPD session presented by Willis Lim from our Allied Industry Partner PKCG\, exploring key cyber security principles and practical strategies to protect organisations against data breaches\, cyber threats\, and information loss. \nThis session will provide a clear overview of common cyber risks affecting today’s professional environments\, including phishing\, ransomware\, and unauthorised access. Attendees will gain insight into best-practice approaches for securing data\, systems\, and networks\, as well as practical measures to reduce exposure to cyber threats. \nThe presentation will also address data protection responsibilities\, risk management strategies\, and steps organisations and individuals can take to strengthen their IT environments and improve resilience against cyber incidents. \nLearning OutcomesBy the end of this session\, participants will:– Understand common cyber security threats and vulnerabilities impacting business and professional IT environments.– Identify practical strategies to protect data from breaches\, loss\, and unauthorised access.– Gain awareness of best-practice cyber security measures\, including user behaviour\, system protection\, and risk mitigation.– Improve their understanding of data protection responsibilities and how to strengthen overall cyber resilience.
URL:https://bdqld.com.au/event/bdq-online-cpd-masterclass-with-pkcg/
CATEGORIES:Education & Training
ATTACH;FMTTYPE=image/png:https://bdqld.com.au/wp-content/uploads/2026/02/online-learning-image-12.png
ORGANIZER;CN="Romeo Du Jr":MAILTO:admin@bdqld.com.au
END:VEVENT
BEGIN:VEVENT
DTSTART;TZID=Australia/Brisbane:20260219T120000
DTEND;TZID=Australia/Brisbane:20260219T130000
DTSTAMP:20260420T212838
CREATED:20260204T235923Z
LAST-MODIFIED:20260219T012153Z
UID:10000134-1771502400-1771506000@bdqld.com.au
SUMMARY:BDQ Online CPD Masterclass with Stratco
DESCRIPTION:ALL THINGS MECHANICAL & SPRING CURVING: Design\, Specification & Installation \nOverviewJoin us for a technical CPD session presented by Cindy Lee from our Industry Partner Stratco\, exploring the principles\, processes\, and practical considerations of mechanical and spring curving in roofing\, cladding\, and flashings. \nThis session will provide a clear comparison between spring curving and mechanical curving systems\, outlining where each method is best applied and how early design decisions can influence constructability\, cost\, and visual outcomes. Attendees will gain insight into how curved elements are manufactured and detailed\, and how to clearly communicate curving requirements to builders and installers. \nThe presentation will also address common challenges associated with curving in plan\, the production of specialist flashings such as Pittsburgh seams\, and strategies to minimise budget overruns through accurate specification and design coordination. \nLearning OutcomesBy the end of this session\, participants will:– Understand the key differences\, advantages\, and limitations of mechanical curving versus spring curving for roofing\, cladding\, and flashings.– Identify the technical and design complexities associated with curving in plan and how these impact fabrication and installation.– Gain an overview of the manufacturing process for Pittsburgh seam flashings and other curved elements.– Evaluate the cost\, design\, and specification considerations required to deliver curved forms efficiently and transparently to builders and installers.
URL:https://bdqld.com.au/event/bdq-online-cpd-masterclass-with-stratco/
CATEGORIES:Education & Training
ATTACH;FMTTYPE=image/png:https://bdqld.com.au/wp-content/uploads/2026/02/online-learning-image-11.png
ORGANIZER;CN="Romeo Du Jr":MAILTO:admin@bdqld.com.au
LOCATION:
END:VEVENT
BEGIN:VEVENT
DTSTART;TZID=Australia/Brisbane:20260210T173000
DTEND;TZID=Australia/Brisbane:20260210T193000
DTSTAMP:20260420T212838
CREATED:20260115T060610Z
LAST-MODIFIED:20260115T060742Z
UID:10000130-1770744600-1770751800@bdqld.com.au
SUMMARY:BDQ Local Branch Event in Brisbane
DESCRIPTION:BDQ Brisbane Branch Meeting \nJoin us for the upcoming Brisbane Branch Meeting\, featuring presentations from Stratco and BA&A. Cindy Lee from Stratco will present Designing with Form\, Light and Shadow: Elevating Architectural Expression with Stratco Architectural Solutions\, highlighting Stratco’s NINELINE range\, new Laser 3D capabilities\, and ARView™—an augmented reality tool that brings patios and sheds to life in your backyard. For the Brisbane session\, Cindy will also touch on outdoor structures\, providing a natural segue into Michael Tyrrell’s Class 10 buildings and structures content. \nMichael Tyrrell from BA&A will cover key design considerations for Class 10 elements under the National Construction Code (NCC)\, including fire rating requirements\, sewer and storm water compliance under QDC MP1.4\, and siting rules for local authorities in South East Queensland. Branden Ross from Building Approvals and Advice will share practical insights from hundreds of real-world projects\, answering questions on patios\, carports\, sheds\, and other Class 10a buildings. \nThis is a great opportunity to connect with local designers\, explore innovative solutions\, and gain practical knowledge on both cutting-edge design tools and NCC compliance.
URL:https://bdqld.com.au/event/bdq-local-branch-event-in-brisbane/
LOCATION:Build and Design Centre\, 66 Merivale St.\, South Brisbane\, Australia
CATEGORIES:Branch Event
ATTACH;FMTTYPE=image/png:https://bdqld.com.au/wp-content/uploads/2026/01/branch-meeting-image-16.png
ORGANIZER;CN="Romeo Du Jr":MAILTO:admin@bdqld.com.au
END:VEVENT
BEGIN:VEVENT
DTSTART;TZID=Australia/Brisbane:20260204T173000
DTEND;TZID=Australia/Brisbane:20260204T193000
DTSTAMP:20260420T212838
CREATED:20260115T025337Z
LAST-MODIFIED:20260115T030437Z
UID:10000128-1770226200-1770233400@bdqld.com.au
SUMMARY:BDQ Local Branch Event in Sunshine Coast
DESCRIPTION:BDQ Sunshine Coast Branch Meeting \nJoin us for the upcoming Sunshine Coast Branch Meeting\, featuring presentations from BERA and Karl Morby from AWS. Karl will introduce AWS 2026 new products\, showcasing AWS’s commitment to innovation and product development\, with a focus on high-performance\, energy-efficient framing solutions for both residential and commercial applications—designed to meet today’s needs and future energy requirements. \nVictoria Walker and David Walker from BERA will also present 7-Star Design in Practice: Lessons from Thousands of Real-World Assessments\, sharing practical insights and lessons learned from thousands of real-world projects. This session will explore how designers have adapted to 7-star energy efficiency requirements and offer practical tips to help integrate energy efficiency into your designs with minimal disruption. \nA great opportunity to connect with local designers\, gain practical knowledge\, and stay up to date with current industry requirements.
URL:https://bdqld.com.au/event/bdq-local-branch-event-in-sunshine-coast/
LOCATION:Architectural Surfaces Unit 2/68 Jessica Blvd\, Minyama
CATEGORIES:Branch Event
ATTACH;FMTTYPE=image/png:https://bdqld.com.au/wp-content/uploads/2026/01/branch-meeting-image-13.png
ORGANIZER;CN="Romeo Du Jr":MAILTO:admin@bdqld.com.au
END:VEVENT
END:VCALENDAR